BEGIN:VCALENDAR
PRODID:/modules.php?act=getical&eid=88&name=Schedule
VERSION:2.0
CALSCALE:GREGORIAN
METHOD:PUBLISH
X-WR-CALNAME:Nachrichten und Termine für Ruppichteroth, Schönenberg, Winterscheid-Allerheiligen
X-WR-TIMEZONE:Europe/Berlin
X-WR-CALDESC:Original by https://www.winterscheid.net/
 Created by mxSchedule 
 Tecmu 2010-2026
BEGIN:VTIMEZONE
TZID:Europe/Berlin
X-LIC-LOCATION:Europe/Berlin
BEGIN:STANDARD
TZOFFSETFROM:+0100
TZOFFSETTO:+0200
TZNAME:CEST
DTSTART:19701025T030000
RRULE:FREQ=YEARLY;BYMONTH=10;BYDAY=-1SU
END:STANDARD
BEGIN:DAYLIGHT
TZOFFSETFROM:+0100
TZOFFSETTO:+0200
TZNAME:CEST
DTSTART:19700329T020000
RRULE:FREQ=YEARLY;BYMONTH=4;BYDAY=1SU
END:DAYLIGHT
END:VTIMEZONE
BEGIN:VEVENT
ORGANIZER;CN=Walter Kemper-waltkemper@web.de
DTSTART:20261101T121130
DTEND:20261101T131100
UID:d7226764d687fc38d957c7c0934099a5
CREATED:20260422T190402
SUMMARY:Allerheiligen
DESCRIPTION:Allerheiligen (lat.: Omnium Sanctorum), begangen am 1. November in der Westkirche bzw. am ersten Sonntag nach Pfingsten in den orthodoxen Kirchen, ist ein Hochfest der r&ouml;misch-katholischen Kirche bzw. Principal Feast der anglikanischen Kirchen, ein Fest (&bdquo;Gedenktag der Heiligen&ldquo;) in den lutherischen Kirchen und wird auch in weiteren protestantischen Kirchen gefeiert. An Allerheiligen wird aller Heiligen gedacht, auch solcher, die nicht heiliggesprochen wurden, sowie der vielen Heiligen, um deren Heiligkeit niemand wei&szlig; als Gott.
 Veröffentlicht von  https://www.winterscheid.net/
LAST-MODIFIED:20260422T190402
END:VEVENT
END:VCALENDAR
