BEGIN:VCALENDAR
PRODID:/modules.php?act=getical&eid=823&name=Schedule
VERSION:2.0
CALSCALE:GREGORIAN
METHOD:PUBLISH
X-WR-CALNAME:Nachrichten und Termine für Ruppichteroth, Schönenberg, Winterscheid-Weihnachten
X-WR-TIMEZONE:Europe/Berlin
X-WR-CALDESC:Original by https://www.winterscheid.net/
 Created by mxSchedule 
 Tecmu 2010-2026
BEGIN:VTIMEZONE
TZID:Europe/Berlin
X-LIC-LOCATION:Europe/Berlin
BEGIN:STANDARD
TZOFFSETFROM:+0100
TZOFFSETTO:+0200
TZNAME:CEST
DTSTART:19701025T030000
RRULE:FREQ=YEARLY;BYMONTH=10;BYDAY=-1SU
END:STANDARD
BEGIN:DAYLIGHT
TZOFFSETFROM:+0100
TZOFFSETTO:+0200
TZNAME:CEST
DTSTART:19700329T020000
RRULE:FREQ=YEARLY;BYMONTH=4;BYDAY=1SU
END:DAYLIGHT
END:VTIMEZONE
BEGIN:VEVENT
ORGANIZER;CN=Walter Kemper-waltkemper@web.de
DTSTART:20261225T111200
DTEND:20261226T111230
UID:325e7a04ce6cf1659c9add534ba4579e
CREATED:20260422T190403
SUMMARY:Weihnachten
DESCRIPTION:Weihnachten, auch (Heiliges) Christfest genannt, ist das Fest der Geburt Jesu Christi.

Festtag ist der 25. Dezember, dessen Feierlichkeiten mit Sonnenuntergang am Vorabend, am Heiligabend (auch &bdquo;Heilige Nacht&ldquo;, &bdquo;Christnacht&ldquo;, 24. Dezember), beginnen. Er ist in vielen Staaten ein gesetzlicher Feiertag und Auftakt der Weihnachtsferien; in Deutschland, &Ouml;sterreich und vielen anderen L&auml;ndern kommt als zweiter Weihnachtsfeiertag der 26. Dezember hinzu, der allerdings in der r&ouml;misch-katholischen und der alt-katholischen Kirche als Stephanstag begangen wird.

&nbsp;

Frei nach Wikipedia...
 Veröffentlicht von  https://www.winterscheid.net/
LAST-MODIFIED:20260422T190403
END:VEVENT
END:VCALENDAR
