BEGIN:VCALENDAR
PRODID:/modules.php?act=getical&eid=821&name=Schedule
VERSION:2.0
CALSCALE:GREGORIAN
METHOD:PUBLISH
X-WR-CALNAME:Nachrichten und Termine für Ruppichteroth, Schönenberg, Winterscheid-Winteranfang
X-WR-TIMEZONE:Europe/Berlin
X-WR-CALDESC:Original by https://www.winterscheid.net/
 Created by mxSchedule 
 Tecmu 2010-2026
BEGIN:VTIMEZONE
TZID:Europe/Berlin
X-LIC-LOCATION:Europe/Berlin
BEGIN:STANDARD
TZOFFSETFROM:+0100
TZOFFSETTO:+0200
TZNAME:CEST
DTSTART:19701025T030000
RRULE:FREQ=YEARLY;BYMONTH=10;BYDAY=-1SU
END:STANDARD
BEGIN:DAYLIGHT
TZOFFSETFROM:+0100
TZOFFSETTO:+0200
TZNAME:CEST
DTSTART:19700329T020000
RRULE:FREQ=YEARLY;BYMONTH=4;BYDAY=1SU
END:DAYLIGHT
END:VTIMEZONE
BEGIN:VEVENT
ORGANIZER;CN=Walter Kemper-waltkemper@web.de
DTSTART:20261221T181200
DTEND:20261221T181230
UID:0fd5dcddb647228a94c376e507b96e0b
CREATED:20260422T190419
SUMMARY:Winteranfang
DESCRIPTION:Eine Sonnenwende oder Sonnwende (lat. Solstitium, griech. Heliost&aacute;sion, beides &bdquo;Stillstand der Sonne&ldquo;) stellt den Zeitpunkt dar, in dem die Sonne im Lauf eines Sonnenjahres den gr&ouml;&szlig;ten n&ouml;rdlichen oder s&uuml;dlichen Abstand vom Himmels&auml;quator erreicht. In diesem Augenblick kehrt die Sonne ihre durch die Schiefe der Ekliptik bewirkte Deklinationsbewegung um und n&auml;hert sich wieder dem Himmels&auml;quator.

Diese maximale Deklination erreicht sie jedes Jahr zweimal: einmal n&ouml;rdlich und einmal s&uuml;dlich des Himmels&auml;quators; je nach Hemisph&auml;re (also Nord- oder S&uuml;dhalbkugel der Erde) spricht man dabei jeweils von der Sommer- oder Wintersonnenwende. Zu diesen Zeiten hat sie auch ihre gr&ouml;&szlig;te bzw. geringste Mittagsh&ouml;he &uuml;ber dem Horizont.

Die Verbindungslinie der beiden Sonnenwenden hei&szlig;t Solstitiallinie.

&nbsp;

Jahreszeit

Die Jahreszeiten unterteilen das Jahr in verschiedene Perioden, die sich durch charakteristische astronomische oder klimatische Eigenschaften auszeichnen. Im allt&auml;glichen Sprachgebrauch sind damit haupts&auml;chlich meteorologisch deutlich voneinander unterscheidbare Jahresabschnitte gemeint; in gem&auml;&szlig;igten Breiten sind dies Fr&uuml;hling, Sommer, Herbst und Winter, in den Tropen sind es Trockenzeit und Regenzeit. Die Beschreibung der Jahreszeiten bezieht sich in diesem Artikel auf die Nordhalbkugel der Erde, auf der S&uuml;dhalbkugel sind sie kalendarisch um ein halbes Jahr versetzt. Sommer und Winter k&ouml;nnen je auch als H&auml;lften eines Jahres verstanden werden, beispielsweise als das Nordsommerhalbjahr beziehungsweise das S&uuml;dwinterhalbjahr.

Verschiedene V&ouml;lker unterteilen bzw. unterteilten das Jahr in andere Jahreszeiten. So kennen die Samen in Skandinavien 8 Jahreszeiten, australische Aborigines in Arnhem Land, die Gagudju sprechen, 6 Jahreszeiten. In Russland kennt man die Rasputiza, zwei Schlammzeiten jeweils w&auml;hrend der Schneeschmelze im Fr&uuml;hjahr und w&auml;hrend der Herbstregenf&auml;lle.



Klicken auf das Bild f&uuml;hrt zum Wiki Jahreszeit!

&nbsp;

&nbsp;

Frei nach Wikipedia...
 Veröffentlicht von  https://www.winterscheid.net/
LAST-MODIFIED:20260422T190419
END:VEVENT
END:VCALENDAR
