BEGIN:VCALENDAR
PRODID:/modules.php?act=getical&eid=817&name=Schedule
VERSION:2.0
CALSCALE:GREGORIAN
METHOD:PUBLISH
X-WR-CALNAME:Nachrichten und Termine für Ruppichteroth, Schönenberg, Winterscheid-Nikolaustag
X-WR-TIMEZONE:Europe/Berlin
X-WR-CALDESC:Original by https://www.winterscheid.net/
 Created by mxSchedule 
 Tecmu 2010-2026
BEGIN:VTIMEZONE
TZID:Europe/Berlin
X-LIC-LOCATION:Europe/Berlin
BEGIN:STANDARD
TZOFFSETFROM:+0100
TZOFFSETTO:+0200
TZNAME:CEST
DTSTART:19701025T030000
RRULE:FREQ=YEARLY;BYMONTH=10;BYDAY=-1SU
END:STANDARD
BEGIN:DAYLIGHT
TZOFFSETFROM:+0100
TZOFFSETTO:+0200
TZNAME:CEST
DTSTART:19700329T020000
RRULE:FREQ=YEARLY;BYMONTH=4;BYDAY=1SU
END:DAYLIGHT
END:VTIMEZONE
BEGIN:VEVENT
ORGANIZER;CN=Walter Kemper-waltkemper@web.de
DTSTART:20261206T171230
DTEND:20261206T181200
UID:1d46068d3e0351f4aeab45df054c6987
CREATED:20260422T190417
SUMMARY:Nikolaustag
DESCRIPTION:Nikolaus ist ein m&auml;nnlicher Vorname. Der erste im Neuen Testament genannte Nikolaus war einer der Sieben Diakone, die die Mitglieder der Jerusalemer Urgemeinde auf Anregung der Apostel zu deren Unterst&uuml;tzung ausw&auml;hlten. Der mit Abstand bekannteste Namenstr&auml;ger ist jedoch der heilige Nikolaus, auf den der moderne Weihnachtsmann zur&uuml;ckgeht. Umgangssprachlich wird auch der Nikolaustag am 6. Dezember kurz Nikolaus genannt.
 Veröffentlicht von  https://www.winterscheid.net/
LAST-MODIFIED:20260422T190417
END:VEVENT
END:VCALENDAR
