BEGIN:VCALENDAR
PRODID:/modules.php?act=getical&eid=814&name=Schedule
VERSION:2.0
CALSCALE:GREGORIAN
METHOD:PUBLISH
X-WR-CALNAME:Nachrichten und Termine für Ruppichteroth, Schönenberg, Winterscheid-Advent
X-WR-TIMEZONE:Europe/Berlin
X-WR-CALDESC:Original by https://www.winterscheid.net/
 Created by mxSchedule 
 Tecmu 2010-2026
BEGIN:VTIMEZONE
TZID:Europe/Berlin
X-LIC-LOCATION:Europe/Berlin
BEGIN:STANDARD
TZOFFSETFROM:+0100
TZOFFSETTO:+0200
TZNAME:CEST
DTSTART:19701025T030000
RRULE:FREQ=YEARLY;BYMONTH=10;BYDAY=-1SU
END:STANDARD
BEGIN:DAYLIGHT
TZOFFSETFROM:+0100
TZOFFSETTO:+0200
TZNAME:CEST
DTSTART:19700329T020000
RRULE:FREQ=YEARLY;BYMONTH=4;BYDAY=1SU
END:DAYLIGHT
END:VTIMEZONE
BEGIN:VEVENT
ORGANIZER;CN=Walter Kemper-waltkemper@web.de
DTSTART:20261129T171115
DTEND:20261224T171245
UID:f6ab43a8e84c2a8e291de2d3419af489
CREATED:20260422T190418
SUMMARY:Advent
DESCRIPTION:Advent (von lat.: adventus &bdquo;Ankunft&ldquo;, dazu advenit &bdquo;er kommt an&ldquo;) ist die Vorbereitung der Christenheit auf das Hochfest der Geburt des Herrn, Weihnachten. Zugleich stellt der erste Adventssonntag den Beginn des christlichen Jahreskreises dar.

&nbsp;

Frei nach Wikipedia...
 Veröffentlicht von  https://www.winterscheid.net/
LAST-MODIFIED:20260422T190418
END:VEVENT
END:VCALENDAR
