BEGIN:VCALENDAR
PRODID:/modules.php?act=getical&eid=472&name=Schedule
VERSION:2.0
CALSCALE:GREGORIAN
METHOD:PUBLISH
X-WR-CALNAME:Nachrichten und Termine für Ruppichteroth, Schönenberg, Winterscheid-Heilige Drei Könige
X-WR-TIMEZONE:Europe/Berlin
X-WR-CALDESC:Original by https://www.winterscheid.net/
 Created by mxSchedule 
 Tecmu 2010-2026
BEGIN:VTIMEZONE
TZID:Europe/Berlin
X-LIC-LOCATION:Europe/Berlin
BEGIN:STANDARD
TZOFFSETFROM:+0100
TZOFFSETTO:+0200
TZNAME:CEST
DTSTART:19701025T030000
RRULE:FREQ=YEARLY;BYMONTH=10;BYDAY=-1SU
END:STANDARD
BEGIN:DAYLIGHT
TZOFFSETFROM:+0100
TZOFFSETTO:+0200
TZNAME:CEST
DTSTART:19700329T020000
RRULE:FREQ=YEARLY;BYMONTH=4;BYDAY=1SU
END:DAYLIGHT
END:VTIMEZONE
BEGIN:VEVENT
ORGANIZER;CN=Walter Kemper-waltkemper@web.de
DTSTART:20270106T080115
DTEND:20270106T080145
UID:53060fbde75ce28995bb6ab433cfb06e
CREATED:20260422T190416
SUMMARY:Heilige Drei Könige
DESCRIPTION:Mit dem Begriff Heilige Drei K&ouml;nige bezeichnet die katholische Tradition die in der Weihnachtsgeschichte des Matth&auml;us-Evangeliums erw&auml;hnten Weisen aus dem Morgenland. Im Neuen Testament werden sie nicht eingehender beschrieben. Bereits im fr&uuml;hen Christentum entstand jedoch eine umfangreiche Legendenbildung, aus der sich ihre Zahl, ihre Bezeichnung als K&ouml;nige und ihre Namen herleiten.

Ihr Hochfest in der katholischen Kirche ist der 6. Januar, der umgangssprachlich &bdquo;Dreik&ouml;nigstag&ldquo;, auch &bdquo;Dreik&ouml;nig&ldquo; genannt wird. In der Liturgie hei&szlig;t dieses Fest sowohl in der katholischen als auch in der evangelischen Kirche &bdquo;Erscheinung des Herrn&ldquo; (Epiphanias).

&nbsp;

Frei nach Wikipedia...
 Veröffentlicht von  https://www.winterscheid.net/
LAST-MODIFIED:20260422T190416
END:VEVENT
END:VCALENDAR
