BEGIN:VCALENDAR
PRODID:/modules.php?act=getical&eid=458&name=Schedule
VERSION:2.0
CALSCALE:GREGORIAN
METHOD:PUBLISH
X-WR-CALNAME:Nachrichten und Termine für Ruppichteroth, Schönenberg, Winterscheid-Pfingstferien
X-WR-TIMEZONE:Europe/Berlin
X-WR-CALDESC:Original by https://www.winterscheid.net/
 Created by mxSchedule 
 Tecmu 2010-2026
BEGIN:VTIMEZONE
TZID:Europe/Berlin
X-LIC-LOCATION:Europe/Berlin
BEGIN:STANDARD
TZOFFSETFROM:+0100
TZOFFSETTO:+0200
TZNAME:CEST
DTSTART:19701025T030000
RRULE:FREQ=YEARLY;BYMONTH=10;BYDAY=-1SU
END:STANDARD
BEGIN:DAYLIGHT
TZOFFSETFROM:+0100
TZOFFSETTO:+0200
TZNAME:CEST
DTSTART:19700329T020000
RRULE:FREQ=YEARLY;BYMONTH=4;BYDAY=1SU
END:DAYLIGHT
END:VTIMEZONE
BEGIN:VEVENT
ORGANIZER;CN=Walter Kemper-waltkemper@web.de
DTSTART:20260526T000500
DTEND:20260526T230545
UID:45b759200f1bc2c04eafc5123e71ccc8
CREATED:20260422T160409
SUMMARY:Pfingstferien
DESCRIPTION:Die Pfingstferien orientieren sich an Pfingsten und Christi Himmelfahrt.
In Deutschland kennen nur einige Bundesl&auml;nder ausgedehnte ein- bis zweiw&ouml;chige Pfingstferien. In den anderen Bundesl&auml;ndern sind nur einige Tage zus&auml;tzlich zu den Feiertagen schulfrei, einige Bundesl&auml;nder m&uuml;ssen sogar ohne Pfingstferien auskommen.
In der Schweiz sind Pfingstferien unbekannt, einzig der Pfingstmontag ist in den meisten Kantonen schulfrei.
In &Ouml;sterreich wird als Pfingstferien das verl&auml;ngerte Wochenende um Pfingsten bezeichnet. Hierbei sind die vier Tage vom Samstag vor Pfingsten bis einschlie&szlig;lich Dienstag nach Pfingsten schulfrei. Diese Regelung gilt f&uuml;r alle Bundesl&auml;nder, die keine Herbstferien festgelegt haben.

Frei nach Wikipedia
 Veröffentlicht von  https://www.winterscheid.net/
LAST-MODIFIED:20260422T160409
END:VEVENT
END:VCALENDAR
