BEGIN:VCALENDAR
PRODID:/modules.php?act=getical&eid=45&name=Schedule
VERSION:2.0
CALSCALE:GREGORIAN
METHOD:PUBLISH
X-WR-CALNAME:Nachrichten und Termine für Ruppichteroth, Schönenberg, Winterscheid-Reformationstag
X-WR-TIMEZONE:Europe/Berlin
X-WR-CALDESC:Original by https://www.winterscheid.net/
 Created by mxSchedule 
 Tecmu 2010-2026
BEGIN:VTIMEZONE
TZID:Europe/Berlin
X-LIC-LOCATION:Europe/Berlin
BEGIN:STANDARD
TZOFFSETFROM:+0100
TZOFFSETTO:+0200
TZNAME:CEST
DTSTART:19701025T030000
RRULE:FREQ=YEARLY;BYMONTH=10;BYDAY=-1SU
END:STANDARD
BEGIN:DAYLIGHT
TZOFFSETFROM:+0100
TZOFFSETTO:+0200
TZNAME:CEST
DTSTART:19700329T020000
RRULE:FREQ=YEARLY;BYMONTH=4;BYDAY=1SU
END:DAYLIGHT
END:VTIMEZONE
BEGIN:VEVENT
ORGANIZER;CN=Walter Kemper-waltkemper@web.de
DTSTART:20261031T101015
DTEND:20261031T101045
UID:81b5f8271a802f8587907a869c3e5a7e
CREATED:20260422T190416
SUMMARY:Reformationstag
DESCRIPTION:Der Reformationstag wird von evangelischen Christen in Deutschland am 31. Oktober im Gedenken an die Reformation der Kirche durch Martin Luther gefeiert. In der Schweiz gilt der erste Sonntag im November als Reformationstag, steht also, trotz des reformierten Bekenntnisses, ebenfalls in Beziehung zur Reformation in Wittenberg.
 Veröffentlicht von  https://www.winterscheid.net/
LAST-MODIFIED:20260422T190416
END:VEVENT
END:VCALENDAR
