BEGIN:VCALENDAR
PRODID:/modules.php?act=getical&eid=360&name=Schedule
VERSION:2.0
CALSCALE:GREGORIAN
METHOD:PUBLISH
X-WR-CALNAME:Nachrichten und Termine für Ruppichteroth, Schönenberg, Winterscheid-Tag der deutschen Einheit
X-WR-TIMEZONE:Europe/Berlin
X-WR-CALDESC:Original by https://www.winterscheid.net/
 Created by mxSchedule 
 Tecmu 2010-2026
BEGIN:VTIMEZONE
TZID:Europe/Berlin
X-LIC-LOCATION:Europe/Berlin
BEGIN:STANDARD
TZOFFSETFROM:+0100
TZOFFSETTO:+0200
TZNAME:CEST
DTSTART:19701025T030000
RRULE:FREQ=YEARLY;BYMONTH=10;BYDAY=-1SU
END:STANDARD
BEGIN:DAYLIGHT
TZOFFSETFROM:+0100
TZOFFSETTO:+0200
TZNAME:CEST
DTSTART:19700329T020000
RRULE:FREQ=YEARLY;BYMONTH=4;BYDAY=1SU
END:DAYLIGHT
END:VTIMEZONE
BEGIN:VEVENT
ORGANIZER;CN=Walter Kemper-waltkemper@web.de
DTSTART:20261003T081015
DTEND:20261003T081045
UID:ad4edf7deb53ceb5767d670cf7e1141c
CREATED:20260422T160406
SUMMARY:Tag der deutschen Einheit
DESCRIPTION:Der Tag der Deutschen Einheit am 3. Oktober ist laut Einigungsvertrag seit 1990 Deutschlands Nationalfeiertag, da an diesem Datum die deutsche Wiedervereinigung vollzogen wurde. Der 3. Oktober ist ein gesetzlicher Feiertag der Bundesrepublik Deutschland.

Der Tag der Deutschen Einheit ist gleichzeitig Jahrestag der Gr&uuml;ndung der f&uuml;nf neuen L&auml;nder.
 Veröffentlicht von  https://www.winterscheid.net/
LAST-MODIFIED:20260422T160406
END:VEVENT
END:VCALENDAR
