BEGIN:VCALENDAR
PRODID:/modules.php?act=getical&eid=343&name=Schedule
VERSION:2.0
CALSCALE:GREGORIAN
METHOD:PUBLISH
X-WR-CALNAME:Nachrichten und Termine für Ruppichteroth, Schönenberg, Winterscheid-Sommeranfang Sommersonnenwende
X-WR-TIMEZONE:Europe/Berlin
X-WR-CALDESC:Original by https://www.winterscheid.net/
 Created by mxSchedule 
 Tecmu 2010-2026
BEGIN:VTIMEZONE
TZID:Europe/Berlin
X-LIC-LOCATION:Europe/Berlin
BEGIN:STANDARD
TZOFFSETFROM:+0100
TZOFFSETTO:+0200
TZNAME:CEST
DTSTART:19701025T030000
RRULE:FREQ=YEARLY;BYMONTH=10;BYDAY=-1SU
END:STANDARD
BEGIN:DAYLIGHT
TZOFFSETFROM:+0100
TZOFFSETTO:+0200
TZNAME:CEST
DTSTART:19700329T020000
RRULE:FREQ=YEARLY;BYMONTH=4;BYDAY=1SU
END:DAYLIGHT
END:VTIMEZONE
BEGIN:VEVENT
ORGANIZER;CN=Walter Kemper-waltkemper@web.de
DTSTART:20260621T060600
DTEND:20260621T060630
UID:53ab1b757c6701a71d96912305bb1d33
CREATED:20260422T160411
SUMMARY:Sommeranfang Sommersonnenwende
DESCRIPTION:Eine Sonnenwende oder Sonnwende (lat. Solstitium, beides &bdquo;Stillstand der Sonne&ldquo;) findet zweimal im Jahr statt. Zur Sommersonnenwende - auf der Nordhalbkugel der Erde am 21. Juni - erreicht die Sonne ihren mitt&auml;glichen H&ouml;chststand &uuml;ber dem Horizont, w&auml;hrend der Wintersonnenwende am 21. oder 22. Dezember den mitt&auml;glichen Tiefststand &uuml;ber dem Horizont. Auf der S&uuml;dhalbkugel sind die Verh&auml;ltnisse umgekehrt, w&auml;hrend des dortigen Winters ist auf der Nordhalbkugel Sommer.

W&auml;hrend einer Sonnenwende erreicht die Sonne im Lauf eines Sonnenjahres den gr&ouml;&szlig;ten n&ouml;rdlichen oder s&uuml;dlichen Abstand vom Himmels&auml;quator. In diesem Augenblick kehrt die Sonne ihre durch die Schiefe der Ekliptik bewirkte Deklinationsbewegung um und n&auml;hert sich wieder dem Himmels&auml;quator.

Diese maximale Deklination erreicht sie jedes Jahr zweimal: einmal n&ouml;rdlich und einmal s&uuml;dlich des Himmels&auml;quators; je nach Hemisph&auml;re (also Nord- oder S&uuml;dhalbkugel der Erde) spricht man dabei jeweils von der Sommer- oder Wintersonnenwende. Zu diesen Zeiten hat sie auch ihre gr&ouml;&szlig;te bzw. geringste Mittagsh&ouml;he &uuml;ber dem Horizont.

&nbsp;

Jahreszeit

Die Jahreszeiten unterteilen das Jahr in verschiedene Perioden, die sich durch charakteristische astronomische oder klimatische Eigenschaften auszeichnen. Im allt&auml;glichen Sprachgebrauch sind damit haupts&auml;chlich meteorologisch deutlich voneinander unterscheidbare Jahresabschnitte gemeint; in gem&auml;&szlig;igten Breiten sind dies Fr&uuml;hling, Sommer, Herbst und Winter, in den Tropen sind es Trockenzeit und Regenzeit. Die Beschreibung der Jahreszeiten bezieht sich in diesem Artikel auf die Nordhalbkugel der Erde, auf der S&uuml;dhalbkugel sind sie kalendarisch um ein halbes Jahr versetzt. Sommer und Winter k&ouml;nnen je auch als H&auml;lften eines Jahres verstanden werden, beispielsweise als das Nordsommerhalbjahr beziehungsweise das S&uuml;dwinterhalbjahr.

Verschiedene V&ouml;lker unterteilen bzw. unterteilten das Jahr in andere Jahreszeiten. So kennen die Samen in Skandinavien 8 Jahreszeiten, australische Aborigines in Arnhem Land, die Gagudju sprechen, 6 Jahreszeiten. In Russland kennt man die Rasputiza, zwei Schlammzeiten jeweils w&auml;hrend der Schneeschmelze im Fr&uuml;hjahr und w&auml;hrend der Herbstregenf&auml;lle.



Klicken auf das Bild f&uuml;hrt zum Wiki Jahreszeit!

&nbsp;

&nbsp;

Frei nach Wikipedia...

&nbsp;
 Veröffentlicht von  https://www.winterscheid.net/
LAST-MODIFIED:20260422T160411
END:VEVENT
END:VCALENDAR
