BEGIN:VCALENDAR
PRODID:/modules.php?act=getical&eid=339&name=Schedule
VERSION:2.0
CALSCALE:GREGORIAN
METHOD:PUBLISH
X-WR-CALNAME:Nachrichten und Termine für Ruppichteroth, Schönenberg, Winterscheid-Fronleichnam
X-WR-TIMEZONE:Europe/Berlin
X-WR-CALDESC:Original by https://www.winterscheid.net/
 Created by mxSchedule 
 Tecmu 2010-2026
BEGIN:VTIMEZONE
TZID:Europe/Berlin
X-LIC-LOCATION:Europe/Berlin
BEGIN:STANDARD
TZOFFSETFROM:+0100
TZOFFSETTO:+0200
TZNAME:CEST
DTSTART:19701025T030000
RRULE:FREQ=YEARLY;BYMONTH=10;BYDAY=-1SU
END:STANDARD
BEGIN:DAYLIGHT
TZOFFSETFROM:+0100
TZOFFSETTO:+0200
TZNAME:CEST
DTSTART:19700329T020000
RRULE:FREQ=YEARLY;BYMONTH=4;BYDAY=1SU
END:DAYLIGHT
END:VTIMEZONE
BEGIN:VEVENT
ORGANIZER;CN=Walter Kemper-waltkemper@web.de
DTSTART:20260604T050645
DTEND:20260604T060615
UID:230650631b9524a9e296f20321ab5aba
CREATED:20260422T150458
SUMMARY:Fronleichnam
DESCRIPTION:Das Fronleichnamsfest ist ein Hochfest im Kirchenjahr der katholischen Kirche, mit dem die leibliche Gegenwart Jesu Christi im Sakrament der Eucharistie gefeiert wird. Der Begriff Fronleichnam leitet sich vom mittelhochdeutschen vr&ocirc;ne l&icirc;cham, &bdquo;des Herren Leib&ldquo;, ab (vr&ocirc;n = &bdquo;was den geistlichen oder weltlichen Herrn betrifft&ldquo;, l&icirc;cham = der Leib). In der Liturgie hei&szlig;t das Fest &bdquo;Hochfest des Leibes und Blutes Christi&ldquo;, regional wird es auch Prangertag oder Blutstag genannt. Im Englischen und in anderen Sprachen tr&auml;gt das Hochfest den Namen Corpus Christi.

Fronleichnam wird am Donnerstag nach dem Dreifaltigkeitsfest begangen (60. Tag nach dem Ostersonntag) und f&auml;llt somit fr&uuml;hestens auf den 21. Mai und sp&auml;testens auf den 24. Juni. Der Donnerstag als Festtermin steht in enger Verbindung zum Gr&uuml;ndonnerstag und der damit verbundenen Einsetzung der Eucharistie durch Jesus Christus selbst. Wegen des stillen Charakters der Karwoche erlaubt der Gr&uuml;ndonnerstag keine prunkvolle Entfaltung der Festlichkeit. Aus diesem Grund wurde das Fest Fronleichnam bei seiner Einf&uuml;hrung auf den Donnerstag der zweiten Woche nach Pfingsten gelegt. In L&auml;ndern, in denen Fronleichnam kein gesetzlicher Feiertag ist, kann das Hochfest auch am darauffolgenden Sonntag gefeiert werden.

&nbsp;

Frei nach Wikipedia...
 Veröffentlicht von  https://www.winterscheid.net/
LAST-MODIFIED:20260422T150458
END:VEVENT
END:VCALENDAR
