BEGIN:VCALENDAR
PRODID:/modules.php?act=getical&eid=337&name=Schedule
VERSION:2.0
CALSCALE:GREGORIAN
METHOD:PUBLISH
X-WR-CALNAME:Nachrichten und Termine für Ruppichteroth, Schönenberg, Winterscheid-Pfingsten
X-WR-TIMEZONE:Europe/Berlin
X-WR-CALDESC:Original by https://www.winterscheid.net/
 Created by mxSchedule 
 Tecmu 2010-2026
BEGIN:VTIMEZONE
TZID:Europe/Berlin
X-LIC-LOCATION:Europe/Berlin
BEGIN:STANDARD
TZOFFSETFROM:+0100
TZOFFSETTO:+0200
TZNAME:CEST
DTSTART:19701025T030000
RRULE:FREQ=YEARLY;BYMONTH=10;BYDAY=-1SU
END:STANDARD
BEGIN:DAYLIGHT
TZOFFSETFROM:+0100
TZOFFSETTO:+0200
TZNAME:CEST
DTSTART:19700329T020000
RRULE:FREQ=YEARLY;BYMONTH=4;BYDAY=1SU
END:DAYLIGHT
END:VTIMEZONE
BEGIN:VEVENT
ORGANIZER;CN=Walter Kemper-waltkemper@web.de
DTSTART:20260524T140515
DTEND:20260525T140545
UID:6e69bb5a7f969b5e9a3c7c31b9912251
CREATED:20260422T160404
SUMMARY:Pfingsten
DESCRIPTION:Pfingsten ist ein christliches Fest. Gefeiert wird von den Gl&auml;ubigen die Entsendung des Heiligen Geistes. Es wird am f&uuml;nfzigsten Tag nach Ostern begangen. Im Neuen Testament wird in der Apostelgeschichte erz&auml;hlt, dass der Heilige Geist auf die Apostel und J&uuml;nger herabkam, als sie zum Pfingstfest (Schawuot) in Jerusalem versammelt waren (Apg 2,1-41 EU
). Dieses Datum wird in der christlichen Tradition auch als Gr&uuml;ndung der Kirche verstanden. Als christliches Fest wird Pfingsten erstmals im Jahr 130 erw&auml;hnt.

&nbsp;

Frei nach Wikipedia...
 Veröffentlicht von  https://www.winterscheid.net/
LAST-MODIFIED:20260422T160404
END:VEVENT
END:VCALENDAR
