BEGIN:VCALENDAR
PRODID:/modules.php?act=getical&eid=29&name=Schedule
VERSION:2.0
CALSCALE:GREGORIAN
METHOD:PUBLISH
X-WR-CALNAME:Nachrichten und Termine für Ruppichteroth, Schönenberg, Winterscheid-Halloween
X-WR-TIMEZONE:Europe/Berlin
X-WR-CALDESC:Original by https://www.winterscheid.net/
 Created by mxSchedule 
 Tecmu 2010-2026
BEGIN:VTIMEZONE
TZID:Europe/Berlin
X-LIC-LOCATION:Europe/Berlin
BEGIN:STANDARD
TZOFFSETFROM:+0100
TZOFFSETTO:+0200
TZNAME:CEST
DTSTART:19701025T030000
RRULE:FREQ=YEARLY;BYMONTH=10;BYDAY=-1SU
END:STANDARD
BEGIN:DAYLIGHT
TZOFFSETFROM:+0100
TZOFFSETTO:+0200
TZNAME:CEST
DTSTART:19700329T020000
RRULE:FREQ=YEARLY;BYMONTH=4;BYDAY=1SU
END:DAYLIGHT
END:VTIMEZONE
BEGIN:VEVENT
ORGANIZER;CN=Walter Kemper-waltkemper@web.de
DTSTART:20261031T121015
DTEND:20261031T121045
UID:134f102bbd03534d18354a8ff4610f90
CREATED:20260422T190416
SUMMARY:Halloween
DESCRIPTION:Halloween, von All Hallows&rsquo; Even (Allerheiligenabend), ist ein Fest am Vorabend von Allerheiligen in der Nacht vom 31. Oktober zum 1. November, das urspr&uuml;nglich vor allem in Irland gefeiert wurde. Der Brauch wurde von irischen Auswanderern ab 1830 in die USA gebracht. Im Laufe der Zeit entwickelte sich Halloween neben Weihnachten und dem Thanksgiving-Fest zu einer der wichtigsten Feiern in den USA. Seit den 1990-er Jahren wird das Fest verbreitet auch in Europa gefeiert. Die Herkunft und der Sinn des Festes sind unklar! Es ist zwar heidnischen Ursprungs, wurde aber wohl von den Kirchen umgewandelt.

Hier... die verschiedenen Ansichten in einem Wiki.
 Veröffentlicht von  https://www.winterscheid.net/
LAST-MODIFIED:20260422T190416
END:VEVENT
END:VCALENDAR
