BEGIN:VCALENDAR
PRODID:/modules.php?act=getical&eid=116&name=Schedule
VERSION:2.0
CALSCALE:GREGORIAN
METHOD:PUBLISH
X-WR-CALNAME:Nachrichten und Termine für Ruppichteroth, Schönenberg, Winterscheid-St. Martin
X-WR-TIMEZONE:Europe/Berlin
X-WR-CALDESC:Original by https://www.winterscheid.net/
 Created by mxSchedule 
 Tecmu 2010-2026
BEGIN:VTIMEZONE
TZID:Europe/Berlin
X-LIC-LOCATION:Europe/Berlin
BEGIN:STANDARD
TZOFFSETFROM:+0100
TZOFFSETTO:+0200
TZNAME:CEST
DTSTART:19701025T030000
RRULE:FREQ=YEARLY;BYMONTH=10;BYDAY=-1SU
END:STANDARD
BEGIN:DAYLIGHT
TZOFFSETFROM:+0100
TZOFFSETTO:+0200
TZNAME:CEST
DTSTART:19700329T020000
RRULE:FREQ=YEARLY;BYMONTH=4;BYDAY=1SU
END:DAYLIGHT
END:VTIMEZONE
BEGIN:VEVENT
ORGANIZER;CN=Walter Kemper-waltkemper@web.de
DTSTART:20261111T121145
DTEND:20261111T131115
UID:1446c07107c478e228dac859a4b0801b
CREATED:20260422T190416
SUMMARY:St. Martin
DESCRIPTION:Der Martinstag am 11. November (in Altbayern und &Ouml;sterreich auch Martini) ist der Festtag des Heiligen Martin von Tours. Er ist in Mitteleuropa von zahlreichen Br&auml;uchen gepr&auml;gt, darunter das Martinsgans-Essen, der Martinszug und das Martinssingen.
 Veröffentlicht von  https://www.winterscheid.net/
LAST-MODIFIED:20260422T190416
END:VEVENT
END:VCALENDAR
