BEGIN:VCALENDAR
PRODID:/modules.php?act=getical&eid=825&name=Schedule
VERSION:2.0
CALSCALE:GREGORIAN
METHOD:PUBLISH
X-WR-CALNAME:Nachrichten und Termine für Ruppichteroth, Schönenberg, Winterscheid-Silvester
X-WR-TIMEZONE:Europe/Berlin
X-WR-CALDESC:Original by http://www.winterscheid.net/
 Created by mxSchedule 
 Tecmu 2010-2026
BEGIN:VTIMEZONE
TZID:Europe/Berlin
X-LIC-LOCATION:Europe/Berlin
BEGIN:STANDARD
TZOFFSETFROM:+0100
TZOFFSETTO:+0200
TZNAME:CEST
DTSTART:19701025T030000
RRULE:FREQ=YEARLY;BYMONTH=10;BYDAY=-1SU
END:STANDARD
BEGIN:DAYLIGHT
TZOFFSETFROM:+0100
TZOFFSETTO:+0200
TZNAME:CEST
DTSTART:19700329T020000
RRULE:FREQ=YEARLY;BYMONTH=4;BYDAY=1SU
END:DAYLIGHT
END:VTIMEZONE
BEGIN:VEVENT
ORGANIZER;CN=Walter Kemper-waltkemper@web.de
DTSTART:20261231T181215
DTEND:20261231T181245
UID:aa0082da590a5b0326afb88439d6cf40
CREATED:20260422T160450
SUMMARY:Silvester
DESCRIPTION:Als Silvester wird in einigen europ&auml;ischen Sprachen der 31. Dezember, der letzte Tag des Jahres im gregorianischen Kalender, bezeichnet. Auf Silvester folgt der Neujahrstag, der 1. Januar des folgenden Jahres.

&nbsp;

Frei nach Wikipedia...
 Veröffentlicht von  http://www.winterscheid.net/
LAST-MODIFIED:20260422T160450
END:VEVENT
END:VCALENDAR
