BEGIN:VCALENDAR
PRODID:/modules.php?act=getical&eid=822&name=Schedule
VERSION:2.0
CALSCALE:GREGORIAN
METHOD:PUBLISH
X-WR-CALNAME:Nachrichten und Termine für Ruppichteroth, Schönenberg, Winterscheid-Heiligabend
X-WR-TIMEZONE:Europe/Berlin
X-WR-CALDESC:Original by http://www.winterscheid.net/
 Created by mxSchedule 
 Tecmu 2010-2026
BEGIN:VTIMEZONE
TZID:Europe/Berlin
X-LIC-LOCATION:Europe/Berlin
BEGIN:STANDARD
TZOFFSETFROM:+0100
TZOFFSETTO:+0200
TZNAME:CEST
DTSTART:19701025T030000
RRULE:FREQ=YEARLY;BYMONTH=10;BYDAY=-1SU
END:STANDARD
BEGIN:DAYLIGHT
TZOFFSETFROM:+0100
TZOFFSETTO:+0200
TZNAME:CEST
DTSTART:19700329T020000
RRULE:FREQ=YEARLY;BYMONTH=4;BYDAY=1SU
END:DAYLIGHT
END:VTIMEZONE
BEGIN:VEVENT
ORGANIZER;CN=Walter Kemper-waltkemper@web.de
DTSTART:20261224T181200
DTEND:20261224T181230
UID:7e3e9aa5627f3751685463be68cbd2f9
CREATED:20260422T040406
SUMMARY:Heiligabend
DESCRIPTION:Der Heilige Abend am 24. Dezember, auch Heiligabend genannt, ist der Vorabend des Weihnachtsfestes. An diesem Abend findet unter anderem in Deutschland, der Schweiz, in Liechtenstein und in &Ouml;sterreich traditionell die Bescherung statt. Der 24. Dezember ist in diesen Staaten kein gesetzlicher Feiertag im Sinne der Arbeitsruhe. In den meisten Landesgesetzen ist er ab den Nachmittags- oder Abendstunden als stiller Tag festgesetzt.

Als Heilige Nacht wird die gesamte Nacht vom 24. auf den 25. Dezember bezeichnet.

&nbsp;

Frei nach Wikipedia...
 Veröffentlicht von  http://www.winterscheid.net/
LAST-MODIFIED:20260422T040406
END:VEVENT
END:VCALENDAR
