BEGIN:VCALENDAR
PRODID:/modules.php?act=getical&eid=252&name=Schedule
VERSION:2.0
CALSCALE:GREGORIAN
METHOD:PUBLISH
X-WR-CALNAME:Nachrichten und Termine für Ruppichteroth, Schönenberg, Winterscheid-Neujahr
X-WR-TIMEZONE:Europe/Berlin
X-WR-CALDESC:Original by http://www.winterscheid.net/
 Created by mxSchedule 
 Tecmu 2010-2026
BEGIN:VTIMEZONE
TZID:Europe/Berlin
X-LIC-LOCATION:Europe/Berlin
BEGIN:STANDARD
TZOFFSETFROM:+0100
TZOFFSETTO:+0200
TZNAME:CEST
DTSTART:19701025T030000
RRULE:FREQ=YEARLY;BYMONTH=10;BYDAY=-1SU
END:STANDARD
BEGIN:DAYLIGHT
TZOFFSETFROM:+0100
TZOFFSETTO:+0200
TZNAME:CEST
DTSTART:19700329T020000
RRULE:FREQ=YEARLY;BYMONTH=4;BYDAY=1SU
END:DAYLIGHT
END:VTIMEZONE
BEGIN:VEVENT
ORGANIZER;CN=Walter Kemper-waltkemper@web.de
DTSTART:20270101T180115
DTEND:20270101T180145
UID:38014309a3263f610b8f9744722ba904
CREATED:20260422T160456
SUMMARY:Neujahr
DESCRIPTION:Neujahr (auch: der Neujahrstag) ist der erste Tag des Kalenderjahres. In nahezu allen Kulturen, jedoch mit teils sehr unterschiedlichen Zeitrechnungen und damit auch Kalendern, ist mit dem Neujahr ein Neujahrsfest verbunden, das in der Folge auch zu unterschiedlichen Zeiten gefeiert wird.

Im westlichen Kulturraum ist der 1. Januar als Termin f&uuml;r den Jahresanfang seit dem Mittelalter weit verbreitet. Unabh&auml;ngig davon gab und gibt es in unterschiedlichen Regionen und Zeiten andere Daten, und dar&uuml;ber hinaus wurden in denselben geographischen Gebieten mitunter verschiedene Neujahrstermine gleichzeitig verwendet.

Erw&auml;hnenswert sind folgende vor allem im kirchlichen Bereich verwendete Varianten:

&nbsp;&nbsp;&nbsp; * der Circumcisionsstil l&auml;sst das Jahr am 1. Januar beginnen
&nbsp;&nbsp;&nbsp; * der Annunciationsstil am 25. M&auml;rz
&nbsp;&nbsp;&nbsp; * der Weihnachtsstil am 25. Dezember
&nbsp;&nbsp;&nbsp; * und der Paschalstil zwischen dem 22.und 23. M&auml;rz und dem 25. April.

Im Jahre 153 v. Chr. verlegten die R&ouml;mer nach ihrem Kalender den Jahresbeginn vom 1. M&auml;rz auf den 1. Januar, auf den Tag des Amtsantrittes der Konsuln. Sie benannten die Jahre auch nach den Amtszeiten dieser Konsuln. Damit verloren auch die Z&auml;hlmonate (September, soviel wie siebter, Oktober, der achte, November, der neunte, Dezember, der zehnte) ihre entsprechenden Positionen.

Bis zur Festsetzung des Neujahrstages im Jahr 1691 durch Papst Innozenz XII. auf den 1. Januar galt in weiten Teilen Europas der 6. Januar als Jahresbeginn.

&nbsp;

Frei nach Wikipedia...
 Veröffentlicht von  http://www.winterscheid.net/
LAST-MODIFIED:20260422T160456
END:VEVENT
END:VCALENDAR
